Package: fibroEset Version: 1.48.0 Command: /home/biocbuild/bbs-3.20-bioc/R/bin/R CMD check --install=check:fibroEset.install-out.txt --library=/home/biocbuild/bbs-3.20-bioc/R/site-library --timings fibroEset_1.48.0.tar.gz StartedAt: 2025-02-06 12:01:33 -0500 (Thu, 06 Feb 2025) EndedAt: 2025-02-06 12:01:58 -0500 (Thu, 06 Feb 2025) EllapsedTime: 24.9 seconds RetCode: 0 Status: WARNINGS CheckDir: fibroEset.Rcheck Warnings: 1