Package: fibroEset Version: 1.48.0 Maintainer: Sylvia Merk MaintainerEmail: merk at ibe.med.uni-muenchen.de git_url: https://git.bioconductor.org/packages/fibroEset git_branch: RELEASE_3_20 git_last_commit: d2c4fb1 git_last_commit_date: 2024-10-29 09:25:16 -0500 (Tue, 29 Oct 2024)