Package: ewceData Version: 1.14.0 Command: /home/biocbuild/bbs-3.20-bioc/R/bin/R CMD INSTALL ewceData StartedAt: 2025-01-30 10:56:53 -0500 (Thu, 30 Jan 2025) EndedAt: 2025-01-30 10:57:07 -0500 (Thu, 30 Jan 2025) EllapsedTime: 14.0 seconds RetCode: 0 Status: OK