Package: ewceData Version: 1.14.0 Command: /home/biocbuild/bbs-3.20-bioc/R/bin/R CMD check --install=check:ewceData.install-out.txt --library=/home/biocbuild/bbs-3.20-bioc/R/site-library --timings ewceData_1.14.0.tar.gz StartedAt: 2025-01-30 12:02:00 -0500 (Thu, 30 Jan 2025) EndedAt: 2025-01-30 12:04:27 -0500 (Thu, 30 Jan 2025) EllapsedTime: 147.0 seconds RetCode: 0 Status: OK CheckDir: ewceData.Rcheck Warnings: 0