Package: etec16s Version: 1.34.0 Command: /home/biocbuild/bbs-3.20-bioc/R/bin/R CMD build --keep-empty-dirs --no-resave-data etec16s StartedAt: 2025-01-30 11:15:43 -0500 (Thu, 30 Jan 2025) EndedAt: 2025-01-30 11:15:53 -0500 (Thu, 30 Jan 2025) EllapsedTime: 10.0 seconds RetCode: 0 Status: OK PackageFile: etec16s_1.34.0.tar.gz PackageFileSize: 309.6 KiB