Package: emtdata Version: 1.14.0 Command: /home/biocbuild/bbs-3.20-bioc/R/bin/R CMD check --install=check:emtdata.install-out.txt --library=/home/biocbuild/bbs-3.20-bioc/R/site-library --timings emtdata_1.14.0.tar.gz StartedAt: 2025-04-01 11:58:14 -0400 (Tue, 01 Apr 2025) EndedAt: 2025-04-01 12:00:41 -0400 (Tue, 01 Apr 2025) EllapsedTime: 147.7 seconds RetCode: 0 Status: OK CheckDir: emtdata.Rcheck Warnings: 0