Package: dressCheck Version: 0.44.0 Command: /home/biocbuild/bbs-3.20-bioc/R/bin/R CMD INSTALL dressCheck StartedAt: 2025-04-01 10:56:11 -0400 (Tue, 01 Apr 2025) EndedAt: 2025-04-01 10:56:19 -0400 (Tue, 01 Apr 2025) EllapsedTime: 7.3 seconds RetCode: 0 Status: OK