Package: diggitdata Version: 1.38.0 Command: /home/biocbuild/bbs-3.20-bioc/R/bin/R CMD INSTALL diggitdata StartedAt: 2025-02-06 10:57:59 -0500 (Thu, 06 Feb 2025) EndedAt: 2025-02-06 10:58:05 -0500 (Thu, 06 Feb 2025) EllapsedTime: 6.3 seconds RetCode: 0 Status: OK