Package: diggitdata Version: 1.38.0 Command: /home/biocbuild/bbs-3.20-bioc/R/bin/R CMD check --install=check:diggitdata.install-out.txt --library=/home/biocbuild/bbs-3.20-bioc/R/site-library --timings diggitdata_1.38.0.tar.gz StartedAt: 2025-02-11 11:57:17 -0500 (Tue, 11 Feb 2025) EndedAt: 2025-02-11 11:58:11 -0500 (Tue, 11 Feb 2025) EllapsedTime: 53.3 seconds RetCode: 0 Status: OK CheckDir: diggitdata.Rcheck Warnings: 0