Package: diggitdata Version: 1.38.0 Command: /home/biocbuild/bbs-3.20-bioc/R/bin/R CMD build --keep-empty-dirs --no-resave-data diggitdata StartedAt: 2025-02-06 11:13:08 -0500 (Thu, 06 Feb 2025) EndedAt: 2025-02-06 11:13:31 -0500 (Thu, 06 Feb 2025) EllapsedTime: 23.4 seconds RetCode: 0 Status: OK PackageFile: diggitdata_1.38.0.tar.gz PackageFileSize: 47.39 MiB