Package: diffloopdata Version: 1.34.0 Command: /home/biocbuild/bbs-3.20-bioc/R/bin/R CMD INSTALL diffloopdata StartedAt: 2025-01-30 10:55:31 -0500 (Thu, 30 Jan 2025) EndedAt: 2025-01-30 10:55:34 -0500 (Thu, 30 Jan 2025) EllapsedTime: 2.4 seconds RetCode: 0 Status: OK