Package: derfinderData Version: 2.24.0 Command: /home/biocbuild/bbs-3.20-bioc/R/bin/R CMD build --keep-empty-dirs --no-resave-data derfinderData StartedAt: 2025-01-30 11:13:45 -0500 (Thu, 30 Jan 2025) EndedAt: 2025-01-30 11:13:53 -0500 (Thu, 30 Jan 2025) EllapsedTime: 7.4 seconds RetCode: 0 Status: OK PackageFile: derfinderData_2.24.0.tar.gz PackageFileSize: 25.57 MiB