Package: davidTiling Version: 1.46.0 Command: /home/biocbuild/bbs-3.20-bioc/R/bin/R CMD INSTALL davidTiling StartedAt: 2025-04-01 10:57:25 -0400 (Tue, 01 Apr 2025) EndedAt: 2025-04-01 10:58:15 -0400 (Tue, 01 Apr 2025) EllapsedTime: 50.7 seconds RetCode: 0 Status: OK