Package: davidTiling Version: 1.46.0 Command: /home/biocbuild/bbs-3.20-bioc/R/bin/R CMD build --keep-empty-dirs --no-resave-data davidTiling StartedAt: 2025-02-06 11:12:33 -0500 (Thu, 06 Feb 2025) EndedAt: 2025-02-06 11:13:35 -0500 (Thu, 06 Feb 2025) EllapsedTime: 62.0 seconds RetCode: 0 Status: OK PackageFile: davidTiling_1.46.0.tar.gz PackageFileSize: 537.7 MiB