Package: curatedBladderData Version: 1.42.0 Command: /home/biocbuild/bbs-3.20-bioc/R/bin/R CMD check --install=check:curatedBladderData.install-out.txt --library=/home/biocbuild/bbs-3.20-bioc/R/site-library --timings curatedBladderData_1.42.0.tar.gz StartedAt: 2025-02-13 11:52:50 -0500 (Thu, 13 Feb 2025) EndedAt: 2025-02-13 11:53:53 -0500 (Thu, 13 Feb 2025) EllapsedTime: 62.2 seconds RetCode: 0 Status: OK CheckDir: curatedBladderData.Rcheck Warnings: 0