Package: curatedAdipoArray Version: 1.18.0 Command: /home/biocbuild/bbs-3.20-bioc/R/bin/R CMD INSTALL curatedAdipoArray StartedAt: 2025-01-30 10:55:17 -0500 (Thu, 30 Jan 2025) EndedAt: 2025-01-30 10:55:19 -0500 (Thu, 30 Jan 2025) EllapsedTime: 1.9 seconds RetCode: 0 Status: OK