Package: curatedAdipoArray Version: 1.18.0 Command: /home/biocbuild/bbs-3.20-bioc/R/bin/R CMD check --install=check:curatedAdipoArray.install-out.txt --library=/home/biocbuild/bbs-3.20-bioc/R/site-library --timings curatedAdipoArray_1.18.0.tar.gz StartedAt: 2025-01-30 11:53:41 -0500 (Thu, 30 Jan 2025) EndedAt: 2025-01-30 11:54:07 -0500 (Thu, 30 Jan 2025) EllapsedTime: 26.0 seconds RetCode: 0 Status: OK CheckDir: curatedAdipoArray.Rcheck Warnings: 0