Package: celarefData Version: 1.24.0 Command: /home/biocbuild/bbs-3.20-bioc/R/bin/R CMD check --install=check:celarefData.install-out.txt --library=/home/biocbuild/bbs-3.20-bioc/R/site-library --timings celarefData_1.24.0.tar.gz StartedAt: 2025-01-30 11:49:02 -0500 (Thu, 30 Jan 2025) EndedAt: 2025-01-30 11:49:38 -0500 (Thu, 30 Jan 2025) EllapsedTime: 36.0 seconds RetCode: 0 Status: OK CheckDir: celarefData.Rcheck Warnings: 0