Package: celarefData Version: 1.24.0 Command: /home/biocbuild/bbs-3.20-bioc/R/bin/R CMD build --keep-empty-dirs --no-resave-data celarefData StartedAt: 2025-01-30 11:07:55 -0500 (Thu, 30 Jan 2025) EndedAt: 2025-01-30 11:08:27 -0500 (Thu, 30 Jan 2025) EllapsedTime: 32.8 seconds RetCode: 0 Status: OK PackageFile: celarefData_1.24.0.tar.gz PackageFileSize: 231.4 KiB