Package: cMap2data Version: 1.42.0 Command: /home/biocbuild/bbs-3.20-bioc/R/bin/R CMD build --keep-empty-dirs --no-resave-data cMap2data StartedAt: 2025-04-01 11:09:04 -0400 (Tue, 01 Apr 2025) EndedAt: 2025-04-01 11:09:18 -0400 (Tue, 01 Apr 2025) EllapsedTime: 14.0 seconds RetCode: 0 Status: OK PackageFile: cMap2data_1.42.0.tar.gz PackageFileSize: 27.94 MiB