Package: bronchialIL13 Version: 1.44.0 Command: /home/biocbuild/bbs-3.20-bioc/R/bin/R CMD INSTALL bronchialIL13 StartedAt: 2025-01-30 10:56:14 -0500 (Thu, 30 Jan 2025) EndedAt: 2025-01-30 10:56:19 -0500 (Thu, 30 Jan 2025) EllapsedTime: 5.0 seconds RetCode: 0 Status: OK