Package: brgedata Version: 1.28.0 Command: /home/biocbuild/bbs-3.20-bioc/R/bin/R CMD INSTALL brgedata StartedAt: 2025-01-30 10:58:45 -0500 (Thu, 30 Jan 2025) EndedAt: 2025-01-30 10:59:53 -0500 (Thu, 30 Jan 2025) EllapsedTime: 67.9 seconds RetCode: 0 Status: OK