Package: breastCancerUNT Version: 1.44.0 Command: /home/biocbuild/bbs-3.20-bioc/R/bin/R CMD check --install=check:breastCancerUNT.install-out.txt --library=/home/biocbuild/bbs-3.20-bioc/R/site-library --timings breastCancerUNT_1.44.0.tar.gz StartedAt: 2025-01-30 11:46:58 -0500 (Thu, 30 Jan 2025) EndedAt: 2025-01-30 11:48:19 -0500 (Thu, 30 Jan 2025) EllapsedTime: 80.6 seconds RetCode: 0 Status: WARNINGS CheckDir: breastCancerUNT.Rcheck Warnings: 1