Package: breastCancerUNT Version: 1.44.0 Command: /home/biocbuild/bbs-3.20-bioc/R/bin/R CMD build --keep-empty-dirs --no-resave-data breastCancerUNT StartedAt: 2025-01-30 11:07:35 -0500 (Thu, 30 Jan 2025) EndedAt: 2025-01-30 11:07:39 -0500 (Thu, 30 Jan 2025) EllapsedTime: 4.6 seconds RetCode: 0 Status: OK PackageFile: breastCancerUNT_1.44.0.tar.gz PackageFileSize: 48.32 MiB