Package: breastCancerMAINZ Version: 1.44.0 Command: /home/biocbuild/bbs-3.20-bioc/R/bin/R CMD INSTALL breastCancerMAINZ StartedAt: 2025-02-06 10:55:44 -0500 (Thu, 06 Feb 2025) EndedAt: 2025-02-06 10:55:45 -0500 (Thu, 06 Feb 2025) EllapsedTime: 1.6 seconds RetCode: 0 Status: OK