Package: biotmleData Version: 1.30.0 Command: /home/biocbuild/bbs-3.20-bioc/R/bin/R CMD check --install=check:biotmleData.install-out.txt --library=/home/biocbuild/bbs-3.20-bioc/R/site-library --timings biotmleData_1.30.0.tar.gz StartedAt: 2025-01-30 11:46:21 -0500 (Thu, 30 Jan 2025) EndedAt: 2025-01-30 11:46:58 -0500 (Thu, 30 Jan 2025) EllapsedTime: 36.8 seconds RetCode: 0 Status: WARNINGS CheckDir: biotmleData.Rcheck Warnings: 2