Package: affydata Version: 1.54.0 Command: /home/biocbuild/bbs-3.20-bioc/R/bin/R CMD INSTALL affydata StartedAt: 2025-04-01 10:57:33 -0400 (Tue, 01 Apr 2025) EndedAt: 2025-04-01 10:57:36 -0400 (Tue, 01 Apr 2025) EllapsedTime: 3.0 seconds RetCode: 0 Status: OK