Package: adductData Version: 1.22.0 Command: /home/biocbuild/bbs-3.20-bioc/R/bin/R CMD INSTALL adductData StartedAt: 2025-04-01 10:57:03 -0400 (Tue, 01 Apr 2025) EndedAt: 2025-04-01 10:57:11 -0400 (Tue, 01 Apr 2025) EllapsedTime: 8.6 seconds RetCode: 0 Status: OK