Package: TabulaMurisData Version: 1.24.0 Command: /home/biocbuild/bbs-3.20-bioc/R/bin/R CMD INSTALL TabulaMurisData StartedAt: 2025-01-30 10:57:22 -0500 (Thu, 30 Jan 2025) EndedAt: 2025-01-30 10:57:34 -0500 (Thu, 30 Jan 2025) EllapsedTime: 12.7 seconds RetCode: 0 Status: OK