Package: TabulaMurisData Version: 1.24.0 Command: /home/biocbuild/bbs-3.20-bioc/R/bin/R CMD build --keep-empty-dirs --no-resave-data TabulaMurisData StartedAt: 2025-02-06 11:38:36 -0500 (Thu, 06 Feb 2025) EndedAt: 2025-02-06 11:39:32 -0500 (Thu, 06 Feb 2025) EllapsedTime: 55.8 seconds RetCode: 0 Status: OK PackageFile: TabulaMurisData_1.24.0.tar.gz PackageFileSize: 220 KiB