Package: TENxXeniumData Version: 1.2.0 Command: /home/biocbuild/bbs-3.20-bioc/R/bin/R CMD build --keep-empty-dirs --no-resave-data TENxXeniumData StartedAt: 2025-01-30 11:41:21 -0500 (Thu, 30 Jan 2025) EndedAt: 2025-01-30 11:44:00 -0500 (Thu, 30 Jan 2025) EllapsedTime: 159.2 seconds RetCode: 0 Status: OK PackageFile: TENxXeniumData_1.2.0.tar.gz PackageFileSize: 224.9 KiB