Package: SomatiCAData Version: 1.44.0 Command: /home/biocbuild/bbs-3.20-bioc/R/bin/R CMD INSTALL SomatiCAData StartedAt: 2025-04-01 10:55:33 -0400 (Tue, 01 Apr 2025) EndedAt: 2025-04-01 10:55:40 -0400 (Tue, 01 Apr 2025) EllapsedTime: 6.5 seconds RetCode: 0 Status: OK