Package: SingleCellMultiModal Version: 1.18.0 Command: /home/biocbuild/bbs-3.20-bioc/R/bin/R CMD build --keep-empty-dirs --no-resave-data SingleCellMultiModal StartedAt: 2025-01-30 11:38:46 -0500 (Thu, 30 Jan 2025) EndedAt: 2025-01-30 11:44:59 -0500 (Thu, 30 Jan 2025) EllapsedTime: 373.0 seconds RetCode: 0 Status: OK PackageFile: SingleCellMultiModal_1.18.0.tar.gz PackageFileSize: 2.883 MiB