Package: Single.mTEC.Transcriptomes Version: 1.34.0 Command: /home/biocbuild/bbs-3.20-bioc/R/bin/R CMD INSTALL Single.mTEC.Transcriptomes StartedAt: 2025-02-06 10:55:52 -0500 (Thu, 06 Feb 2025) EndedAt: 2025-02-06 10:55:56 -0500 (Thu, 06 Feb 2025) EllapsedTime: 3.9 seconds RetCode: 0 Status: OK