Package: Single.mTEC.Transcriptomes Version: 1.34.0 Command: /home/biocbuild/bbs-3.20-bioc/R/bin/R CMD check --install=check:Single.mTEC.Transcriptomes.install-out.txt --library=/home/biocbuild/bbs-3.20-bioc/R/site-library --timings Single.mTEC.Transcriptomes_1.34.0.tar.gz StartedAt: 2025-01-30 12:40:24 -0500 (Thu, 30 Jan 2025) EndedAt: 2025-01-30 12:49:01 -0500 (Thu, 30 Jan 2025) EllapsedTime: 516.8 seconds RetCode: 0 Status: OK CheckDir: Single.mTEC.Transcriptomes.Rcheck Warnings: 0