Package: Single.mTEC.Transcriptomes Version: 1.34.0 Command: /home/biocbuild/bbs-3.20-bioc/R/bin/R CMD build --keep-empty-dirs --no-resave-data Single.mTEC.Transcriptomes StartedAt: 2025-02-06 11:37:21 -0500 (Thu, 06 Feb 2025) EndedAt: 2025-02-06 11:43:25 -0500 (Thu, 06 Feb 2025) EllapsedTime: 363.9 seconds RetCode: 0 Status: OK PackageFile: Single.mTEC.Transcriptomes_1.34.0.tar.gz PackageFileSize: 904.6 MiB