Package: SimBenchData Version: 1.14.0 Command: /home/biocbuild/bbs-3.20-bioc/R/bin/R CMD build --keep-empty-dirs --no-resave-data SimBenchData StartedAt: 2025-01-30 11:38:35 -0500 (Thu, 30 Jan 2025) EndedAt: 2025-01-30 11:38:56 -0500 (Thu, 30 Jan 2025) EllapsedTime: 21.5 seconds RetCode: 0 Status: OK PackageFile: SimBenchData_1.14.0.tar.gz PackageFileSize: 236 KiB