Package: SNAGEEdata Version: 1.42.0 Command: /home/biocbuild/bbs-3.20-bioc/R/bin/R CMD INSTALL SNAGEEdata StartedAt: 2025-04-01 10:57:35 -0400 (Tue, 01 Apr 2025) EndedAt: 2025-04-01 10:57:38 -0400 (Tue, 01 Apr 2025) EllapsedTime: 2.3 seconds RetCode: 0 Status: OK