Package: SNAGEEdata Version: 1.42.0 Command: /home/biocbuild/bbs-3.20-bioc/R/bin/R CMD build --keep-empty-dirs --no-resave-data SNAGEEdata StartedAt: 2025-02-06 11:37:37 -0500 (Thu, 06 Feb 2025) EndedAt: 2025-02-06 11:37:40 -0500 (Thu, 06 Feb 2025) EllapsedTime: 2.3 seconds RetCode: 0 Status: OK PackageFile: SNAGEEdata_1.42.0.tar.gz PackageFileSize: 29.22 MiB