Package: SNAData Version: 1.52.0 Command: /home/biocbuild/bbs-3.20-bioc/R/bin/R CMD build --keep-empty-dirs --no-resave-data SNAData StartedAt: 2025-01-30 11:39:06 -0500 (Thu, 30 Jan 2025) EndedAt: 2025-01-30 11:39:13 -0500 (Thu, 30 Jan 2025) EllapsedTime: 7.0 seconds RetCode: 0 Status: OK PackageFile: SNAData_1.52.0.tar.gz PackageFileSize: 135 KiB