Package: SFEData Version: 1.8.1 Command: /home/biocbuild/bbs-3.20-bioc/R/bin/R CMD INSTALL SFEData StartedAt: 2025-04-01 10:56:41 -0400 (Tue, 01 Apr 2025) EndedAt: 2025-04-01 10:56:54 -0400 (Tue, 01 Apr 2025) EllapsedTime: 12.7 seconds RetCode: 0 Status: OK