Package: SFEData Version: 1.8.1 Command: /home/biocbuild/bbs-3.20-bioc/R/bin/R CMD check --install=check:SFEData.install-out.txt --library=/home/biocbuild/bbs-3.20-bioc/R/site-library --timings SFEData_1.8.1.tar.gz StartedAt: 2025-04-01 12:35:49 -0400 (Tue, 01 Apr 2025) EndedAt: 2025-04-01 12:38:18 -0400 (Tue, 01 Apr 2025) EllapsedTime: 148.6 seconds RetCode: 0 Status: OK CheckDir: SFEData.Rcheck Warnings: 0