Package: RnaSeqSampleSizeData Version: 1.38.0 Command: /home/biocbuild/bbs-3.20-bioc/R/bin/R CMD INSTALL RnaSeqSampleSizeData StartedAt: 2025-01-30 10:56:33 -0500 (Thu, 30 Jan 2025) EndedAt: 2025-01-30 10:56:36 -0500 (Thu, 30 Jan 2025) EllapsedTime: 2.7 seconds RetCode: 0 Status: OK