Package: RnaSeqSampleSizeData Version: 1.38.0 Command: /home/biocbuild/bbs-3.20-bioc/R/bin/R CMD check --install=check:RnaSeqSampleSizeData.install-out.txt --library=/home/biocbuild/bbs-3.20-bioc/R/site-library --timings RnaSeqSampleSizeData_1.38.0.tar.gz StartedAt: 2025-01-30 12:33:21 -0500 (Thu, 30 Jan 2025) EndedAt: 2025-01-30 12:33:49 -0500 (Thu, 30 Jan 2025) EllapsedTime: 28.0 seconds RetCode: 0 Status: OK CheckDir: RnaSeqSampleSizeData.Rcheck Warnings: 0