Package: RnaSeqSampleSizeData Version: 1.38.0 Command: /home/biocbuild/bbs-3.20-bioc/R/bin/R CMD build --keep-empty-dirs --no-resave-data RnaSeqSampleSizeData StartedAt: 2025-01-30 11:34:50 -0500 (Thu, 30 Jan 2025) EndedAt: 2025-01-30 11:34:56 -0500 (Thu, 30 Jan 2025) EllapsedTime: 6.3 seconds RetCode: 0 Status: OK PackageFile: RnaSeqSampleSizeData_1.38.0.tar.gz PackageFileSize: 6.035 MiB