Package: RnBeads.rn5 Version: 1.38.0 Command: /home/biocbuild/bbs-3.20-bioc/R/bin/R CMD INSTALL RnBeads.rn5 StartedAt: 2025-01-30 10:58:27 -0500 (Thu, 30 Jan 2025) EndedAt: 2025-01-30 10:58:36 -0500 (Thu, 30 Jan 2025) EllapsedTime: 8.3 seconds RetCode: 0 Status: OK