Package: RnBeads.rn5 Version: 1.38.0 Command: /home/biocbuild/bbs-3.20-bioc/R/bin/R CMD check --install=check:RnBeads.rn5.install-out.txt --library=/home/biocbuild/bbs-3.20-bioc/R/site-library --timings RnBeads.rn5_1.38.0.tar.gz StartedAt: 2025-04-01 12:30:25 -0400 (Tue, 01 Apr 2025) EndedAt: 2025-04-01 12:32:56 -0400 (Tue, 01 Apr 2025) EllapsedTime: 151.1 seconds RetCode: 0 Status: OK CheckDir: RnBeads.rn5.Rcheck Warnings: 0