Package: RnBeads.rn5 Version: 1.38.0 Command: /home/biocbuild/bbs-3.20-bioc/R/bin/R CMD build --keep-empty-dirs --no-resave-data RnBeads.rn5 StartedAt: 2025-04-01 11:33:02 -0400 (Tue, 01 Apr 2025) EndedAt: 2025-04-01 11:33:09 -0400 (Tue, 01 Apr 2025) EllapsedTime: 7.4 seconds RetCode: 0 Status: OK PackageFile: RnBeads.rn5_1.38.0.tar.gz PackageFileSize: 106.8 MiB