Package: RnBeads.mm10 Version: 2.14.0 Command: /home/biocbuild/bbs-3.20-bioc/R/bin/R CMD INSTALL RnBeads.mm10 StartedAt: 2025-04-01 11:03:31 -0400 (Tue, 01 Apr 2025) EndedAt: 2025-04-01 11:03:40 -0400 (Tue, 01 Apr 2025) EllapsedTime: 8.6 seconds RetCode: 0 Status: OK