Package: RnBeads.hg38 Version: 1.38.0 Command: /home/biocbuild/bbs-3.20-bioc/R/bin/R CMD build --keep-empty-dirs --no-resave-data RnBeads.hg38 StartedAt: 2025-02-06 11:33:57 -0500 (Thu, 06 Feb 2025) EndedAt: 2025-02-06 11:34:08 -0500 (Thu, 06 Feb 2025) EllapsedTime: 11.6 seconds RetCode: 0 Status: OK PackageFile: RnBeads.hg38_1.38.0.tar.gz PackageFileSize: 158.9 MiB